BEGIN:VCALENDAR
VERSION:2.0
PRODID:-//Fuzzstration - ECPv6.0.10//NONSGML v1.0//EN
CALSCALE:GREGORIAN
METHOD:PUBLISH
X-WR-CALNAME:Fuzzstration
X-ORIGINAL-URL:https://www.fuzzstration.com
X-WR-CALDESC:Events for Fuzzstration
REFRESH-INTERVAL;VALUE=DURATION:PT1H
X-Robots-Tag:noindex
X-PUBLISHED-TTL:PT1H
BEGIN:VTIMEZONE
TZID:UTC
BEGIN:STANDARD
TZOFFSETFROM:+0000
TZOFFSETTO:+0000
TZNAME:UTC
DTSTART:20240101T000000
END:STANDARD
END:VTIMEZONE
BEGIN:VEVENT
DTSTART;VALUE=DATE:20240406
DTEND;VALUE=DATE:20240407
DTSTAMP:20260421T181314
CREATED:20240112T200839Z
LAST-MODIFIED:20240112T202058Z
UID:94-1712361600-1712447999@www.fuzzstration.com
SUMMARY:Moonshadow Fest - Black Swan Lake\, Medora\, IN
DESCRIPTION:
URL:https://www.fuzzstration.com/event/moonshadow-fest-black-swan-lake-medora-in/
END:VEVENT
END:VCALENDAR